BEGIN:VCALENDAR
VERSION:2.0
PRODID:-//SWD - Stichting Welbevinden Delft - ECPv6.15.18//NONSGML v1.0//EN
CALSCALE:GREGORIAN
METHOD:PUBLISH
X-WR-CALNAME:SWD - Stichting Welbevinden Delft
X-ORIGINAL-URL:https://swdelft.nl
X-WR-CALDESC:Evenementen voor SWD - Stichting Welbevinden Delft
REFRESH-INTERVAL;VALUE=DURATION:PT1H
X-Robots-Tag:noindex
X-PUBLISHED-TTL:PT1H
BEGIN:VTIMEZONE
TZID:Europe/Amsterdam
BEGIN:DAYLIGHT
TZOFFSETFROM:+0100
TZOFFSETTO:+0200
TZNAME:CEST
DTSTART:20250330T010000
END:DAYLIGHT
BEGIN:STANDARD
TZOFFSETFROM:+0200
TZOFFSETTO:+0100
TZNAME:CET
DTSTART:20251026T010000
END:STANDARD
BEGIN:DAYLIGHT
TZOFFSETFROM:+0100
TZOFFSETTO:+0200
TZNAME:CEST
DTSTART:20260329T010000
END:DAYLIGHT
BEGIN:STANDARD
TZOFFSETFROM:+0200
TZOFFSETTO:+0100
TZNAME:CET
DTSTART:20261025T010000
END:STANDARD
BEGIN:DAYLIGHT
TZOFFSETFROM:+0100
TZOFFSETTO:+0200
TZNAME:CEST
DTSTART:20270328T010000
END:DAYLIGHT
BEGIN:STANDARD
TZOFFSETFROM:+0200
TZOFFSETTO:+0100
TZNAME:CET
DTSTART:20271031T010000
END:STANDARD
END:VTIMEZONE
BEGIN:VEVENT
DTSTART;TZID=Europe/Amsterdam:20260422T080000
DTEND;TZID=Europe/Amsterdam:20260422T170000
DTSTAMP:20260422T121002
CREATED:20260402T171303Z
LAST-MODIFIED:20260402T171304Z
UID:10011073-1776844800-1776877200@swdelft.nl
SUMMARY:Inloopmiddag tieners 10-13 jaar
DESCRIPTION:Ben jij tussen de 10 en 13 jaar? Kom gezellig langs bij onze tienerinloop! Je bent van harte welkom om te chillen\, vrienden te ontmoeten en lekker jezelf te zijn. \n  \n💬 Wat kun je doen?\nAlles mag\, niets moet! \n\nChillen in de chillhoek\nGamen en spellen spelen\nSporten (met begeleiding van onze scholarshipper op di-wo-do-vr)\nKnutselen\nGezellig met de begeleiding kletsen\nCreatief bezig zijn met kunst & cultuur\nEr zijn ook maandelijkse activiteiten zoals koken en bakken\, bingo enz….\n\n🥤 Tijdens de inloop zorgen wij voor limonade voor iedereen. De inloopmomenten zijn helemaal gratis. \n📌 Belangrijk\nWe vinden het belangrijk dat het voor iedereen leuk en veilig blijft. Daarom hebben we ook huisregels\, deze hangen in De Border en zijn voor iedereen zichtbaar. \nIedereen is welkom\, of je nu komt om actief bezig te zijn of gewoon lekker wilt hangen met je vrienden. en….neem gerust iemand mee.
URL:https://swdelft.nl/activiteit/inloopmiddag-tieners-10-13-jaar-18/2026-04-22/
LOCATION:J.C. De Border\, Abtswoude 2\, Delft\, 2624RD\, Nederland
CATEGORIES:Tieners
ATTACH;FMTTYPE=image/jpeg:https://swdelft.nl/wp-content/uploads/2025/11/tienerinlopen-e1770621939350.jpg
ORGANIZER;CN="SWD":MAILTO:info@swdelft.nl
END:VEVENT
BEGIN:VEVENT
DTSTART;TZID=Europe/Amsterdam:20260422T150000
DTEND;TZID=Europe/Amsterdam:20260422T160000
DTSTAMP:20260422T121002
CREATED:20260411T102326Z
LAST-MODIFIED:20260411T102326Z
UID:10011167-1776870000-1776873600@swdelft.nl
SUMMARY:BINGO met de tieners
DESCRIPTION:Vandaag gaan we weer gezellig bingo’en. \nDeze activiteit valt in de inloopmiddag (deze gaat ook gewoon door van 14:00-17:00\, dus je kan gewoon komen chillen\, gamen\, spelletjes spelen\, deelnemen aan creatieve activiteiten of sporten) \n  \nGratis deelname
URL:https://swdelft.nl/activiteit/bingo-met-de-tieners/
LOCATION:J.C. De Border\, Abtswoude 2\, Delft\, 2624RD\, Nederland
CATEGORIES:Tieners
ATTACH;FMTTYPE=image/jpeg:https://swdelft.nl/wp-content/uploads/2026/04/bingo.jpg
ORGANIZER;CN="SWD":MAILTO:info@swdelft.nl
END:VEVENT
BEGIN:VEVENT
DTSTART;TZID=Europe/Amsterdam:20260422T190000
DTEND;TZID=Europe/Amsterdam:20260422T213000
DTSTAMP:20260422T121002
CREATED:20260402T172514Z
LAST-MODIFIED:20260402T172515Z
UID:10011093-1776884400-1776893400@swdelft.nl
SUMMARY:Inloopavond jongeren 13-23 jaar
DESCRIPTION:Ben jij tussen de 13 en 23 jaar? Kom gezellig langs bij onze jongereninloop! Je bent van harte welkom om te chillen\, vrienden te ontmoeten en lekker jezelf te zijn. \n  \n💬 Wat kun je doen?\nAlles mag\, niets moet! \n\nChillen in de chillhoek\nGamen en spellen spelen\nSporten ( buiten met begeleiding van onze scholarshipper op ma-di-wo-op donderdag sport je buiten met SWD en SBG)\nPoolen\, Darten\, Tafelvoetballen\, Tafeltennissen (binnen)\nGezellig met de begeleiding kletsen\nCreatief bezig zijn met kunst & cultuur\nEr zijn ook maandelijkse activiteiten zoals koken en bakken\, bingo enz….\n\nDe inloopmomenten zijn helemaal gratis. \n📌 Belangrijk\nWe vinden het belangrijk dat het voor iedereen leuk en veilig blijft. Daarom hebben we ook huisregels\, deze hangen in De Border en zijn voor iedereen zichtbaar. \nIedereen is welkom\, of je nu komt om actief bezig te zijn of gewoon lekker wilt hangen met je vrienden. en….neem gerust iemand mee.
URL:https://swdelft.nl/activiteit/inloopavond-jongeren-13-23-jaar-13/2026-04-22/
LOCATION:J.C. De Border\, Abtswoude 2\, Delft\, 2624RD\, Nederland
CATEGORIES:Jongeren
ATTACH;FMTTYPE=image/jpeg:https://swdelft.nl/wp-content/uploads/2025/11/jongeren.jpg
ORGANIZER;CN="SWD":MAILTO:info@swdelft.nl
END:VEVENT
END:VCALENDAR